BEGIN:VCALENDAR
VERSION:2.0
PRODID:-//Tukios.com/
BEGIN:VEVENT
UID:abb8a74d-c61c-4088-9418-c7b154183a04@www.magicvalleyfuneralhome.com
DTSTAMP:20260424T043835Z
DTSTART:20260428T170000Z
DTEND:20260428T180000Z
SUMMARY:Memorial Service
DESCRIPTION:
URL:https://www.magicvalleyfuneralhome.com/obituaries/james-jim-plunk
LOCATION: 2551 Kimberly Road  Twin Falls ID 83301
GEO:42.5488392;-114.4315555
END:VEVENT
END:VCALENDAR