BEGIN:VCALENDAR
VERSION:2.0
PRODID:-//Tukios.com/
BEGIN:VEVENT
UID:5d35c6aa-bb62-4e7c-b809-6bfcba5491e7@www.magicvalleyfuneralhome.com
DTSTAMP:20260422T050047Z
DTSTART:20260429T170000Z
DTEND:20260429T174500Z
SUMMARY:Viewing
DESCRIPTION:
URL:https://www.magicvalleyfuneralhome.com/obituaries/tamara-kelso
LOCATION:Wilks Funeral Home 2551 Kimberly Road  Twin Falls ID 83301
GEO:42.5492979;-114.4313824
END:VEVENT
END:VCALENDAR