BEGIN:VCALENDAR
VERSION:2.0
PRODID:-//Tukios.com/
BEGIN:VEVENT
UID:1e2d7e49-087c-4c85-8350-470d654a7eb8@www.magicvalleyfuneralhome.com
DTSTAMP:20260422T050827Z
DTSTART:20260429T180000Z
DTEND:20260429T190000Z
SUMMARY:Funeral Service
DESCRIPTION:
URL:https://www.magicvalleyfuneralhome.com/obituaries/tamara-kelso
LOCATION:Wilks Funeral Home 2551 Kimberly Road  Twin Falls ID 83301
GEO:42.5492979;-114.4313824
END:VEVENT
END:VCALENDAR