BEGIN:VCALENDAR
VERSION:2.0
PRODID:-//Tukios.com/
BEGIN:VEVENT
UID:87a6f9b8-d4dc-43ba-ae46-180ce79d7d9a@www.magicvalleyfuneralhome.com
DTSTAMP:20260422T050612Z
DTSTART:20260429T180000Z
DTEND:20260429T190000Z
SUMMARY:Burial
DESCRIPTION:
URL:https://www.magicvalleyfuneralhome.com/obituaries/tamara-kelso
LOCATION:Sunset Memorial Park 2296 Kimberly Road  Twin Falls ID 83301
GEO:42.5467749;-114.4365409
END:VEVENT
END:VCALENDAR